BEGIN:VCALENDAR
VERSION:2.0
PRODID:-//Stockyards Ag Experience - ECPv6.15.18//NONSGML v1.0//EN
CALSCALE:GREGORIAN
METHOD:PUBLISH
X-WR-CALNAME:Stockyards Ag Experience
X-ORIGINAL-URL:https://www.stockyardsagexperience.org
X-WR-CALDESC:Events for Stockyards Ag Experience
REFRESH-INTERVAL;VALUE=DURATION:PT1H
X-Robots-Tag:noindex
X-PUBLISHED-TTL:PT1H
BEGIN:VTIMEZONE
TZID:America/North_Dakota/Center
BEGIN:DAYLIGHT
TZOFFSETFROM:-0600
TZOFFSETTO:-0500
TZNAME:CDT
DTSTART:20250309T080000
END:DAYLIGHT
BEGIN:STANDARD
TZOFFSETFROM:-0500
TZOFFSETTO:-0600
TZNAME:CST
DTSTART:20251102T070000
END:STANDARD
BEGIN:DAYLIGHT
TZOFFSETFROM:-0600
TZOFFSETTO:-0500
TZNAME:CDT
DTSTART:20260308T080000
END:DAYLIGHT
BEGIN:STANDARD
TZOFFSETFROM:-0500
TZOFFSETTO:-0600
TZNAME:CST
DTSTART:20261101T070000
END:STANDARD
BEGIN:DAYLIGHT
TZOFFSETFROM:-0600
TZOFFSETTO:-0500
TZNAME:CDT
DTSTART:20270314T080000
END:DAYLIGHT
BEGIN:STANDARD
TZOFFSETFROM:-0500
TZOFFSETTO:-0600
TZNAME:CST
DTSTART:20271107T070000
END:STANDARD
END:VTIMEZONE
BEGIN:VEVENT
DTSTART;VALUE=DATE:20260509
DTEND;VALUE=DATE:20260510
DTSTAMP:20260425T082831
CREATED:20260406T145012Z
LAST-MODIFIED:20260406T164202Z
UID:10940-1778284800-1778371199@www.stockyardsagexperience.org
SUMMARY:Passport to Ag
DESCRIPTION:Explore the globe with us! International farmers grow food that ends up on our dinner tables as well. From bananas to coffee beans\, lots of our most popular foods are imported from our friends around the globe. At our first Passport to Ag event\, learn a little bit about four different countries and how they impact the American food system. \n 
URL:https://www.stockyardsagexperience.org/event/passport-to-ag/
LOCATION:Stockyards Ag Experience\, 301 E Falls Park Drive\, Sioux Falls\, SD\, 57104\, United States
CATEGORIES:Farm-to-Table
ATTACH;FMTTYPE=image/png:https://stockyards.s3.amazonaws.com/wp-content/uploads/2026/04/06094703/2.png
ORGANIZER;CN="Stockyards Ag Experience":MAILTO:visitorservices@stockyardsagexperience.org
END:VEVENT
END:VCALENDAR