BEGIN:VCALENDAR
VERSION:2.0
PRODID:-//Stockyards Ag Experience - ECPv6.15.18//NONSGML v1.0//EN
CALSCALE:GREGORIAN
METHOD:PUBLISH
X-WR-CALNAME:Stockyards Ag Experience
X-ORIGINAL-URL:https://www.stockyardsagexperience.org
X-WR-CALDESC:Events for Stockyards Ag Experience
REFRESH-INTERVAL;VALUE=DURATION:PT1H
X-Robots-Tag:noindex
X-PUBLISHED-TTL:PT1H
BEGIN:VTIMEZONE
TZID:America/North_Dakota/Center
BEGIN:DAYLIGHT
TZOFFSETFROM:-0600
TZOFFSETTO:-0500
TZNAME:CDT
DTSTART:20250309T080000
END:DAYLIGHT
BEGIN:STANDARD
TZOFFSETFROM:-0500
TZOFFSETTO:-0600
TZNAME:CST
DTSTART:20251102T070000
END:STANDARD
BEGIN:DAYLIGHT
TZOFFSETFROM:-0600
TZOFFSETTO:-0500
TZNAME:CDT
DTSTART:20260308T080000
END:DAYLIGHT
BEGIN:STANDARD
TZOFFSETFROM:-0500
TZOFFSETTO:-0600
TZNAME:CST
DTSTART:20261101T070000
END:STANDARD
BEGIN:DAYLIGHT
TZOFFSETFROM:-0600
TZOFFSETTO:-0500
TZNAME:CDT
DTSTART:20270314T080000
END:DAYLIGHT
BEGIN:STANDARD
TZOFFSETFROM:-0500
TZOFFSETTO:-0600
TZNAME:CST
DTSTART:20271107T070000
END:STANDARD
END:VTIMEZONE
BEGIN:VEVENT
DTSTART;TZID=America/North_Dakota/Center:20260515T090000
DTEND;TZID=America/North_Dakota/Center:20260515T110000
DTSTAMP:20260421T103159
CREATED:20260420T191220Z
LAST-MODIFIED:20260420T191220Z
UID:10967-1778835600-1778842800@www.stockyardsagexperience.org
SUMMARY:Coffee Date at the Barn
DESCRIPTION:For those who have fond memories of the Sioux Falls Stockyards\, or just want to learn more about the history and what we do here at the Stockyards Ag Experience. \nThis is a FREE event centered on our amazing Senior Citizens.Enjoy a tour\, coffee with pastries and a nice sit down chat with our Executive Director and our very own Jim Woster. \nThis event is ‘Open House’ style so come when you can during the 2 hours!
URL:https://www.stockyardsagexperience.org/event/coffee-date-at-the-barn/
LOCATION:Stockyards Ag Experience\, 301 E Falls Park Drive\, Sioux Falls\, SD\, 57104\, United States
CATEGORIES:History
ATTACH;FMTTYPE=image/png:https://stockyards.s3.amazonaws.com/wp-content/uploads/2026/04/20141208/2026-Monthly-Programs-15.png
ORGANIZER;CN="Stockyards Ag Experience":MAILTO:visitorservices@stockyardsagexperience.org
END:VEVENT
BEGIN:VEVENT
DTSTART;TZID=America/North_Dakota/Center:20260523T080000
DTEND;TZID=America/North_Dakota/Center:20260523T130000
DTSTAMP:20260421T103159
CREATED:20260419T135709Z
LAST-MODIFIED:20260419T135709Z
UID:10954-1779523200-1779541200@www.stockyardsagexperience.org
SUMMARY:SAE at the Farmer's Market
DESCRIPTION:Join the Stockyards Ag Experience at the Falls Park Farmers Market! We’ll have a table with information\, games\, crafts and more! Support your local farmers\, gardeners and businesses
URL:https://www.stockyardsagexperience.org/event/sae-at-the-farmers-market/
LOCATION:Falls’s Park Farmer’s Market\, 260 E Falls Park Drive\, Sioux Falls\, SD\, 57104\, United States
CATEGORIES:Crops,Family,Farm-to-Table,History
ATTACH;FMTTYPE=image/png:https://stockyards.s3.amazonaws.com/wp-content/uploads/2026/04/19085630/2026-Monthly-Programs-11.png
ORGANIZER;CN="Stockyards Ag Experience":MAILTO:visitorservices@stockyardsagexperience.org
END:VEVENT
BEGIN:VEVENT
DTSTART;TZID=America/North_Dakota/Center:20261009T150000
DTEND;TZID=America/North_Dakota/Center:20261009T180000
DTSTAMP:20260421T103159
CREATED:20260420T184515Z
LAST-MODIFIED:20260420T184515Z
UID:10962-1791558000-1791568800@www.stockyardsagexperience.org
SUMMARY:National Farmers Day
DESCRIPTION:This event is FREE and open to the public.\nCelebrate the hard work of farmers in our region at the Chamber’s 8th Annual National Farmer’s Day at the Barn! This family-friendly event features a pick-and-take pumpkin patch\, fun exhibits\, treats and the opportunity to learn how agriculture affects us all!\nThis event is organized and hosted by the Agribusiness Division of the Greater Sioux Falls Chamber of Commerce.\nWho: The Agribusiness Division of the Greater Sioux Falls Chamber of Commerce extends the invitation for all interested families and friends to stop by the Barn. If you have eaten a meal today or are wearing clothes\, farming is important to you\, and you are invited to attend!\nWhy: The national holiday honors our deserving\, hard-working farmers. National Farmer’s Day occurs annually on October 12 as a day for our farmers. This annual event is organized by the Agribusiness Division of the Greater Sioux Falls Chamber of Commerce and is a great opportunity to thank a farmer!
URL:https://www.stockyardsagexperience.org/event/national-farmers-day/
LOCATION:Stockyards Ag Experience\, 301 E Falls Park Drive\, Sioux Falls\, SD\, 57104\, United States
CATEGORIES:Crops,Family,Farm-to-Table,History,Livestock
ATTACH;FMTTYPE=image/png:https://stockyards.s3.amazonaws.com/wp-content/uploads/2026/04/06132341/2026-Monthly-Programs-6.png
ORGANIZER;CN="Stockyards Ag Experience":MAILTO:visitorservices@stockyardsagexperience.org
END:VEVENT
BEGIN:VEVENT
DTSTART;TZID=America/North_Dakota/Center:20261203T170000
DTEND;TZID=America/North_Dakota/Center:20261203T200000
DTSTAMP:20260421T103159
CREATED:20260420T185036Z
LAST-MODIFIED:20260420T185217Z
UID:10964-1796317200-1796328000@www.stockyardsagexperience.org
SUMMARY:Country Christmas
DESCRIPTION:Join us for our 3rd Annual Country Christmas at the Stockyards Ag Experience!\n\nSpend an evening at The Falls in Winter Wonderland with us! Horse drawn wagon rides courtesy of McCrossan Boy’s Ranch\, photos with Santa & Mrs Claus\, Christmas crafts and coloring and of course cookies with hot cocoa!\n\nMore ride specifics will be available closer to the event.
URL:https://www.stockyardsagexperience.org/event/country-christmas/
LOCATION:SD
CATEGORIES:Family,History
ATTACH;FMTTYPE=image/png:https://stockyards.s3.amazonaws.com/wp-content/uploads/2026/04/06132332/2026-Monthly-Programs-8.png
END:VEVENT
END:VCALENDAR