BEGIN:VCALENDAR
VERSION:2.0
PRODID:-//Stockyards Ag Experience - ECPv6.15.18//NONSGML v1.0//EN
CALSCALE:GREGORIAN
METHOD:PUBLISH
X-WR-CALNAME:Stockyards Ag Experience
X-ORIGINAL-URL:https://www.stockyardsagexperience.org
X-WR-CALDESC:Events for Stockyards Ag Experience
REFRESH-INTERVAL;VALUE=DURATION:PT1H
X-Robots-Tag:noindex
X-PUBLISHED-TTL:PT1H
BEGIN:VTIMEZONE
TZID:America/North_Dakota/Center
BEGIN:DAYLIGHT
TZOFFSETFROM:-0600
TZOFFSETTO:-0500
TZNAME:CDT
DTSTART:20250309T080000
END:DAYLIGHT
BEGIN:STANDARD
TZOFFSETFROM:-0500
TZOFFSETTO:-0600
TZNAME:CST
DTSTART:20251102T070000
END:STANDARD
BEGIN:DAYLIGHT
TZOFFSETFROM:-0600
TZOFFSETTO:-0500
TZNAME:CDT
DTSTART:20260308T080000
END:DAYLIGHT
BEGIN:STANDARD
TZOFFSETFROM:-0500
TZOFFSETTO:-0600
TZNAME:CST
DTSTART:20261101T070000
END:STANDARD
BEGIN:DAYLIGHT
TZOFFSETFROM:-0600
TZOFFSETTO:-0500
TZNAME:CDT
DTSTART:20270314T080000
END:DAYLIGHT
BEGIN:STANDARD
TZOFFSETFROM:-0500
TZOFFSETTO:-0600
TZNAME:CST
DTSTART:20271107T070000
END:STANDARD
END:VTIMEZONE
BEGIN:VEVENT
DTSTART;TZID=America/North_Dakota/Center:20260809T103000
DTEND;TZID=America/North_Dakota/Center:20260809T113000
DTSTAMP:20260420T032912
CREATED:20260406T182818Z
LAST-MODIFIED:20260406T182818Z
UID:10952-1786271400-1786275000@www.stockyardsagexperience.org
SUMMARY:Piglet Storytime
DESCRIPTION:Come to the Stockyards Ag Experience to have story time with a piglet! \nA piglet will be brought into the barn by Pipestone to help tell a fun agricultural story. \nThe first reading will be at 10:45 a.m. with the second reading to follow at 11:00 a.m.
URL:https://www.stockyardsagexperience.org/event/piglet-storytime/
LOCATION:Stockyards Ag Experience\, 301 E Falls Park Drive\, Sioux Falls\, SD\, 57104\, United States
CATEGORIES:Family,Livestock
ATTACH;FMTTYPE=image/png:https://stockyards.s3.amazonaws.com/wp-content/uploads/2026/04/06132349/2026-Monthly-Programs-4.png
ORGANIZER;CN="Stockyards Ag Experience":MAILTO:visitorservices@stockyardsagexperience.org
END:VEVENT
END:VCALENDAR